BEGIN:VCALENDAR
VERSION:2.0
PRODID:-//eventon.com NONSGML v1.0//EN
BEGIN:VEVENT
UID:69e9299d3cd0c
DTSTAMP:20260422T210341
DTSTART:20210102T110000Z
DTEND:20210102T180000Z
TZID:Europe/London
LOCATION:Fabrications 7 Broadway Market
SUMMARY:Beginners Sewing 1 - Introduction to using a sewing machine
DESCRIPTION: Our Beginners Sewing 1 &#8211; Introduction To Using a Sewing Machine class has been developed to address the needs of those who have little or no experience of using a sewing machine. Through this class participants will learn not only basic sewing machine skills\,  but will develop the confidence to progress onto[..]
URL:https://fabrications1.co.uk/events/beginners-sewing-1-introduction-to-using-a-sewing-machine/
END:VEVENT
END:VCALENDAR