BEGIN:VCALENDAR
VERSION:2.0
PRODID:-//eventon.com NONSGML v1.0//EN
BEGIN:VEVENT
UID:69e60566b7eb7
DTSTAMP:20260420T115222
DTSTART:20241019T100000Z
DTEND:20241019T123000Z
TZID:Europe/London
LOCATION:Fabrications 7 Broadway Market
SUMMARY:Sashiko Stitching Workshop
DESCRIPTION: Sashiko\,  meaning ‘little stab’ is the Japanese art of stitching beautiful patterns using running stitch. Often used to add strength\,  texture and warmth to old garments\,  Sashiko has become synonymous with complex repeating patterns and precise stitching. Although most people will be familiar with the traditional white stitches on indigo fabric\,  sashiko[..]
URL:https://fabrications1.co.uk/events/sashiko-stitching-workshop-28/
END:VEVENT
END:VCALENDAR