BEGIN:VCALENDAR
VERSION:2.0
PRODID:-//eventon.com NONSGML v1.0//EN
BEGIN:VEVENT
UID:69e8760e93fda
DTSTAMP:20260422T081734
DTSTART:20240416T173000Z
DTEND:20240416T200000Z
TZID:Europe/London
LOCATION:Fabrications 7 Broadway Market
SUMMARY:Boro Workshop - Japanese Inspired Repair
DESCRIPTION: Boro (more accurately ‘Boro boro’)\,  meaning ‘rags or tatters’ is the art of repairing fabric using scraps and stitching. A source of shame in Japan for many years\,  the fabrics are now highly prized and can fetch significant sums. Boro work follows the British wartime tradition of ‘make do and mend’ but was[..]
URL:https://fabrications1.co.uk/events/boro-workshop-japanese-inspired-repair-26/
END:VEVENT
END:VCALENDAR