BEGIN:VCALENDAR
VERSION:2.0
PRODID:-//eventon.com NONSGML v1.0//EN
BEGIN:VEVENT
UID:69ebc5c86f1e8
DTSTAMP:20260424T203432
DTSTART:20240218T110000Z
DTEND:20240218T170000Z
TZID:Europe/London
LOCATION:Fabrications 7 Broadway Market
SUMMARY:Beginners Crochet - Next Steps
DESCRIPTION: Crochet is a great alternative and also complimentary technique to knitting. It is more freestyle\,  great for lacey designs\,  3d shapes and can also be used to embellish and join your knitting\,  Our Beginners Crochet classes have been developed to meet the needs of those wishing to take the first[..]
URL:https://fabrications1.co.uk/events/beginners-crochet-next-steps/
END:VEVENT
END:VCALENDAR