BEGIN:VCALENDAR
VERSION:2.0
PRODID:-//eventon.com NONSGML v1.0//EN
BEGIN:VEVENT
UID:69e732d06dac2
DTSTAMP:20260421T091824
DTSTART:20230518T053000Z
DTEND:20230518T200000Z
TZID:Europe/London
LOCATION:Fabrications 7 Broadway Market
SUMMARY:Learn to 'Steek'
DESCRIPTION: Learn the art of Steeking &#8211; a traditional Shetland method of cutting into fairisle knitting\,  to open up necklines\,  cardigan fronts and sleeve holes. It can be quite daunting to cut through your knitting but once mastered &#8216;Steeking&#8217; will revolutionise your knitting! The technique can also be adapted to upcycle certain ready[..]
URL:https://fabrications1.co.uk/events/learn-to-steek/
END:VEVENT
END:VCALENDAR