BEGIN:VCALENDAR
VERSION:2.0
PRODID:-//eventon.com NONSGML v1.0//EN
BEGIN:VEVENT
UID:69ea872273508
DTSTAMP:20260423T215458
DTSTART:20230527T220000Z
DTEND:20230527T160000Z
TZID:Europe/London
LOCATION:Fabrications 7 Broadway Market
SUMMARY:Beginners Crochet 1
DESCRIPTION: Crochet is a great alternative and also complimentary technique to knitting. It is more freestyle\,  great for lacey designs\,  3d shapes and can also be used to embellish and join your knitting\,  Our Beginners Crochet has been developed to meet the needs of those wishing to take the first steps[..]
URL:https://fabrications1.co.uk/events/beginners-crochet-23/
END:VEVENT
END:VCALENDAR