BEGIN:VCALENDAR
VERSION:2.0
PRODID:-//eventon.com NONSGML v1.0//EN
BEGIN:VEVENT
UID:69e534bc92500
DTSTAMP:20260419T210204
DTSTART:20220925T100000Z
DTEND:20220925T123000Z
TZID:Europe/London
LOCATION:Fabrications 7 Broadway Market
SUMMARY:Introduction to hand embroidery stitches
DESCRIPTION: ZERO WASTE CANVAS BAG EMBROIDERY SAMPLER by MOODY BRIGHT DESIGNS Join our embroidery experience where complete beginners can learn 6 fundamental stitches that make embroidery addictive and fun.  You will be guided through each stitch via a step by step approach that includes written and visual instructions. Artist Milou Stella[..]
URL:https://fabrications1.co.uk/events/introduction-to-hand-embroidery-stitches-8/
END:VEVENT
END:VCALENDAR