BEGIN:VCALENDAR
VERSION:2.0
PRODID:-//eventon.com NONSGML v1.0//EN
BEGIN:VEVENT
UID:69e8964bf39bb
DTSTAMP:20260422T103507
DTSTART:20220925T013000Z
DTEND:20220925T043000Z
TZID:Pacific/Midway
LOCATION:Fabrications 7 Broadway Market
SUMMARY:'Boshi' Shibori
DESCRIPTION: Shibori is the Japanese art of stitched and bound resist. It is a slow craft\,  often requiring many hours of binding\,  stitching and pulling up of threads\,  followed by multiple dyeing processes. This and the variations in tension and pressure applied in construction mean that every piece produced is unique. Learn the[..]
URL:https://fabrications1.co.uk/events/boshi-shibori/
END:VEVENT
END:VCALENDAR