BEGIN:VCALENDAR
VERSION:2.0
PRODID:-//eventon.com NONSGML v1.0//EN
BEGIN:VEVENT
UID:69e81ddee03a1
DTSTAMP:20260422T020118
DTSTART:20220805T110000Z
DTEND:20220805T230000Z
TZID:Pacific/Midway
LOCATION:Fabrications 7 Broadway Market
SUMMARY:We will take a break from classes in August! New dates from September now booking!
DESCRIPTION: In the meantime\,  I&#8217;m excited to share my FIRST EVER podcast interview! Recently I was contacted by Zoe Edwards &#8211; a wonderful person\,  passionate about sewing\,  reusing materials and debunking fast fashion as part of her attempts to live a more sustainable and authentic life. She has been blogging about[..]
URL:https://fabrications1.co.uk/events/we-will-take-a-break-from-classes-in-august-new-dates-from-september-going-up-soon/
END:VEVENT
END:VCALENDAR