BEGIN:VCALENDAR
VERSION:2.0
PRODID:-//eventon.com NONSGML v1.0//EN
BEGIN:VEVENT
UID:69ebb93982974
DTSTAMP:20260424T194057
DTSTART:20220129T100000Z
DTEND:20220129T130000Z
TZID:Europe/London
LOCATION:Fabrications 7 Broadway Market
SUMMARY:Andean Hand Embroidery - make your own belt
DESCRIPTION: Inspired by the current Exhibition at the British Museum “Peru a Journey in Time” immerse yourself in the ancient textiles embroidery of the Peruvian Highland of Ayacucho. Embroidering your very own belt to wear with pride “I made this”. Create beautiful flower designs and enjoy an introduction to Peruvian Andean embroidery\,  exploring[..]
URL:https://fabrications1.co.uk/events/andean-hand-embroidery-make-your-own-belt/
END:VEVENT
END:VCALENDAR